BEGIN:VCALENDAR
VERSION:2.0
CALSCALE:GREGORIAN
BEGIN:VEVENT
SUMMARY:Autumnal Equinox (Join Online)
DTSTART;TZID=America/Chicago:20220924T080000
DTEND;TZID=America/Chicago:20220924T091500
LOCATION:Lucent Yoga
DESCRIPTION: Sign up here to join us via Zoom.  Link will be emailed to you approximately 30 minutes prior to start of class.
STATUS:CONFIRMED
SEQUENCE:0
END:VEVENT
END:VCALENDAR