BEGIN:VCALENDAR
VERSION:2.0
CALSCALE:GREGORIAN
BEGIN:VEVENT
SUMMARY:Forrest Yoga
DTSTART;TZID=Europe/Rome:20210225T080000
DTEND;TZID=Europe/Rome:20210225T090000
LOCATION:Online
DESCRIPTION: Pratica adatta a tutti. Consigliato avere vicino 2 mattoncini, una cintura e una coperta
STATUS:CONFIRMED
SEQUENCE:0
END:VEVENT
END:VCALENDAR