BEGIN:VCALENDAR
VERSION:2.0
CALSCALE:GREGORIAN
BEGIN:VEVENT
SUMMARY:Ramsdean: Rookery Farm
DTSTART;TZID=Europe/London:20240805T181500
DTEND;TZID=Europe/London:20240805T191500
LOCATION:Empower Pilates
DESCRIPTION: A mixture of static postures, Sun Salutation flow and deeper stretching. Suitable for all abilities.
STATUS:CONFIRMED
SEQUENCE:0
END:VEVENT
END:VCALENDAR