BEGIN:VCALENDAR
VERSION:2.0
CALSCALE:GREGORIAN
BEGIN:VEVENT
SUMMARY:Candlelit Yin Yoga - The Barn, St Peter&#039;s Rd (Wild Nest)
DTSTART;TZID=Europe/London:20241220T190000
DTEND;TZID=Europe/London:20241220T201500
LOCATION:.
DESCRIPTION: Slow holds of floor based postures, targeting deeper muscle and fascia stretch. Relaxation and a candlelit meditation.
STATUS:CONFIRMED
SEQUENCE:0
END:VEVENT
END:VCALENDAR