BEGIN:VCALENDAR
VERSION:2.0
CALSCALE:GREGORIAN
BEGIN:VEVENT
SUMMARY:Hatha Vinyasa II
DTSTART;TZID=America/Tegucigalpa:20230925T184500
DTEND;TZID=America/Tegucigalpa:20230925T194500
LOCATION:
DESCRIPTION: Secuencia dinámica de posturas conectadas con la respiración. Menos estiramiento, más posturas.
Nivel: Intermedio +
Dificultad: ⚫️⚫️⚫️⚫️⚪️
STATUS:CONFIRMED
SEQUENCE:0
END:VEVENT
END:VCALENDAR