BEGIN:VCALENDAR
VERSION:2.0
CALSCALE:GREGORIAN
BEGIN:VEVENT
SUMMARY:Hatha Sound
DTSTART;TZID=America/Tegucigalpa:20240523T073000
DTEND;TZID=America/Tegucigalpa:20240523T084000
LOCATION:
DESCRIPTION: Práctica de Hatha Yoga tradicional enfocada en conectar con el cuerpo y la respiración, ideales para construir fuerza y flexibilidad y donde terminamos en un Savasana con un baño de sonido.
Nivel: Principiantes.
Dificultad: ⚫️⚫️⚪️⚪️⚪️
STATUS:CONFIRMED
SEQUENCE:0
END:VEVENT
END:VCALENDAR