BEGIN:VCALENDAR
VERSION:2.0
CALSCALE:GREGORIAN
BEGIN:VEVENT
SUMMARY:Power Yoga
DTSTART;TZID=America/Tegucigalpa:20240826T184500
DTEND;TZID=America/Tegucigalpa:20240826T194500
LOCATION:
DESCRIPTION: Aumenta la fuerza, flexibilidad y vitalidad de tu cuerpo con estas secuencias vigorizantes. 
Nivel: Multinivel.
Dificultad: ⚫️⚫️⚫️⚪️⚪️
STATUS:CONFIRMED
SEQUENCE:0
END:VEVENT
END:VCALENDAR