BEGIN:VCALENDAR
VERSION:2.0
CALSCALE:GREGORIAN
BEGIN:VEVENT
SUMMARY:Kinderyoga - (6-10 Jahre)
DTSTART;TZID=Europe/Berlin:20250121T164500
DTEND;TZID=Europe/Berlin:20250121T173000
LOCATION:Am Hasenberge 48, 22335 Hamburg
DESCRIPTION: Dieser Kurs lädt Kinder im Alter von 6 bis 10 Jahren ein, spielerisch die Welt des Yoga zu entdecken. Mit fantasievollen Geschichten, lustigen Tierhaltungen und kleinen Atemübungen fördern wir Beweglichkeit, Balance und Konzentration – immer mit viel Freude und ohne Leistungsdruck.  

Kinderyoga stärkt nicht nur den Körper, sondern auch das Selbstbewusstsein und die innere Ruhe. Durch kreative Übungen lernen die Kinder, ihre Energie zu spüren, zur Ruhe zu kommen und achtsam mit sich und anderen umzugehen.  

Hier dürfen die Kleinen toben, lachen, entspannen – und einfach sie selbst sein. Ein Kurs, der Körper und Geist auf kindgerechte Weise in Einklang bringt!
STATUS:CONFIRMED
SEQUENCE:0
END:VEVENT
END:VCALENDAR