BEGIN:VCALENDAR
VERSION:2.0
CALSCALE:GREGORIAN
BEGIN:VEVENT
SUMMARY:Open shala
DTSTART;TZID=Europe/Zurich:20251121T063000
DTEND;TZID=Europe/Zurich:20251121T093000
LOCATION:
DESCRIPTION: L&#039;espace est à disposition. Chacun.e est bienvenu.e pour venir et repartir selon ses disponibilités et envies, et faire sa pratique personnelle en silence. Nous partageons le lieu et l&#039;énergie de groupe.

Cette pratique est gratuite pour celles et ceux qui ont un abonnement ou une carte de cours valable, et sinon une contribution est demandée selon votre budget.
STATUS:CONFIRMED
SEQUENCE:0
END:VEVENT
END:VCALENDAR