BEGIN:VCALENDAR
VERSION:2.0
CALSCALE:GREGORIAN
BEGIN:VEVENT
SUMMARY:Hot Stretch and Recover
DTSTART;TZID=Asia/Bangkok:20250920T180000
DTEND;TZID=Asia/Bangkok:20250920T190000
LOCATION:
DESCRIPTION: Release tension and restore balance in this deep stretch class held in soothing infrared heat. Gentle, lengthening movements target tight muscles, improve flexibility, and support recovery after sports, training, or daily stress. Perfect for enhancing mobility and leaving you feeling relaxed and recharged.

Suitable for all levels, including beginners.
STATUS:CONFIRMED
SEQUENCE:0
END:VEVENT
END:VCALENDAR