BEGIN:VCALENDAR
VERSION:2.0
CALSCALE:GREGORIAN
BEGIN:VEVENT
SUMMARY:The Pawse Club
DTSTART;TZID=Asia/Bangkok:20251214T120000
DTEND;TZID=Asia/Bangkok:20251214T160000
LOCATION:
DESCRIPTION: 
STATUS:CONFIRMED
SEQUENCE:0
END:VEVENT
END:VCALENDAR