BEGIN:VCALENDAR
VERSION:2.0
CALSCALE:GREGORIAN
BEGIN:VEVENT
SUMMARY:Pilates
DTSTART;TZID=Europe/Paris:20260413T180000
DTEND;TZID=Europe/Paris:20260413T185000
LOCATION:7 rue Poullart des Places 35700 Rennes
DESCRIPTION: Cours de Pilates Matwork 
Tous niveaux
STATUS:CONFIRMED
SEQUENCE:0
END:VEVENT
END:VCALENDAR