BEGIN:VCALENDAR
VERSION:2.0
CALSCALE:GREGORIAN
BEGIN:VEVENT
SUMMARY:Pilates
DTSTART;TZID=Europe/Paris:20260212T113000
DTEND;TZID=Europe/Paris:20260212T122500
LOCATION:Place Eglise Saint Etienne, kerfit Les Lices
DESCRIPTION: Cours de Pilates Matwork 
Tous niveaux
STATUS:CONFIRMED
SEQUENCE:0
END:VEVENT
END:VCALENDAR