BEGIN:VCALENDAR
VERSION:2.0
CALSCALE:GREGORIAN
BEGIN:VEVENT
SUMMARY:YIN-Vinyasa
DTSTART;TZID=Europe/Paris:20260424T183000
DTEND;TZID=Europe/Paris:20260424T193000
LOCATION:7 rue Poullart des Places, 35700 Rennes
DESCRIPTION: Le Vinyasa Yoga allie mouvement et respiration, permettant de créer une expérience à la fois dynamique et méditative. La pratique du Yin Yoga permet de créer de l&#039;espace dans le corps et dans la tête en restant longtemps dans les postures (3 à 6min ). L&#039;esprit s&#039;apaise, les muscles et fascia se dénouent, le système nerveux se régule.
 Dans ce cours mixe permet de souffler en fin de semaine, de se reconnecter à ses sensations tout en douceur.
Tous niveaux // cours maintenu à partir de 3 inscriptions
STATUS:CONFIRMED
SEQUENCE:0
END:VEVENT
END:VCALENDAR