BEGIN:VCALENDAR
VERSION:2.0
CALSCALE:GREGORIAN
BEGIN:VEVENT
SUMMARY:Gentle Flow
DTSTART;TZID=Europe/London:20220822T104500
DTEND;TZID=Europe/London:20220822T114500
LOCATION:Luna Moona Studio - Gatehead Mill
DESCRIPTION: This class softly wakes up the physical and energetic body through stretches and postures linked together with breath.
A beautiful way to take a slower more mindful practice.
STATUS:CONFIRMED
SEQUENCE:0
END:VEVENT
END:VCALENDAR