BEGIN:VCALENDAR
VERSION:2.0
CALSCALE:GREGORIAN
BEGIN:VEVENT
SUMMARY:Arm Balance workshop
DTSTART;TZID=Europe/London:20220911T113000
DTEND;TZID=Europe/London:20220911T130000
LOCATION:Luna Studio
DESCRIPTION: want to learn some technique to get your feet in the air?!

This mini masterclass will explore 6 different arm balances and how to approach them.

Arm balances require strength and technique - which we will help you to understand so that you can practice in your own time.

It will be a fun and fairly energetic practice - any wrist injuries are advised to talk to GP or contact us before booking.
STATUS:CONFIRMED
SEQUENCE:0
END:VEVENT
END:VCALENDAR