BEGIN:VCALENDAR
VERSION:2.0
CALSCALE:GREGORIAN
BEGIN:VEVENT
SUMMARY:Yoga &amp; brunch (use EVENT PASS) for full event
DTSTART;TZID=Europe/London:20221008T100000
DTEND;TZID=Europe/London:20221008T123000
LOCATION:Luna Studio
DESCRIPTION: Join us for an energising yoga flow followed by freshly prepared brunch including our selection of food and chai latte/herbal tea. Use 
If you are only staying for yoga then please book Yoga only!
Weather depended we may be able to make this a little magical
STATUS:CONFIRMED
SEQUENCE:0
END:VEVENT
END:VCALENDAR