BEGIN:VCALENDAR
VERSION:2.0
CALSCALE:GREGORIAN
BEGIN:VEVENT
SUMMARY:Yoga (no brunch)
DTSTART;TZID=Europe/London:20221008T100000
DTEND;TZID=Europe/London:20221008T110000
LOCATION:Luna Studio
DESCRIPTION: Hot yoga session at slightly later time of 10:25
STATUS:CONFIRMED
SEQUENCE:0
END:VEVENT
END:VCALENDAR