BEGIN:VCALENDAR
VERSION:2.0
CALSCALE:GREGORIAN
BEGIN:VEVENT
SUMMARY:Yoga Vinyasa niveau intermédiaire au Centre Gaïa Médica
DTSTART;TZID=Europe/Paris:20260604T194500
DTEND;TZID=Europe/Paris:20260604T210000
LOCATION:Pertuis
DESCRIPTION: Un cours de Yoga Vinyasa au centre Gaia medica, à Pertuis. Niveau intermédiarie.

Le yoga vinyasa, le yoga dynamique qui tonifie. Envie de réveiller vos muscles et de rester tonique ? Le yoga Vinyasa est fait pour vous. On vous dit tout de cette pratique de yoga dynamique mais qui reste très accessible.

Lieu: 11 chemin Malespine, 84120 Pertuis
Prévoyez un tapis de yoga, une petite bouteille d&amp;#039;eau et venez 5&amp;#039; avant le début du cours.

POLITIQUE D&amp;#039;ANNULATION :
Concernant les forfaits à la carte, tout cours non annulé en amont moins de 8h avant le cours sera considérées comme dû et décompté de votre forfait, quelle que soit la raison de votre absence.
STATUS:CONFIRMED
SEQUENCE:0
END:VEVENT
END:VCALENDAR