BEGIN:VCALENDAR
VERSION:2.0
CALSCALE:GREGORIAN
BEGIN:VEVENT
SUMMARY:En formation Sonothérapie. Pas de cours
DTSTART;TZID=Europe/Paris:20260126T093000
DTEND;TZID=Europe/Paris:20260126T104500
LOCATION:Sannes
DESCRIPTION: 
STATUS:CONFIRMED
SEQUENCE:0
END:VEVENT
END:VCALENDAR