BEGIN:VCALENDAR
VERSION:2.0
CALSCALE:GREGORIAN
BEGIN:VEVENT
SUMMARY:Hatha Yoga au domaine Les Terrasses d&#039;Adrien
DTSTART;TZID=Europe/Paris:20260302T093000
DTEND;TZID=Europe/Paris:20260302T104500
LOCATION:Sannes
DESCRIPTION: 
STATUS:CONFIRMED
SEQUENCE:0
END:VEVENT
END:VCALENDAR