BEGIN:VCALENDAR
VERSION:2.0
CALSCALE:GREGORIAN
BEGIN:VEVENT
SUMMARY:En vacances en Chine. La reprise à partir du 20 Avril :)
DTSTART;TZID=Europe/Paris:20260413T194500
DTEND;TZID=Europe/Paris:20260413T210000
LOCATION:Sannes
DESCRIPTION: 
STATUS:CONFIRMED
SEQUENCE:0
END:VEVENT
END:VCALENDAR