BEGIN:VCALENDAR
VERSION:2.0
CALSCALE:GREGORIAN
BEGIN:VEVENT
SUMMARY:Yin Yoga &amp; Auto-massage au Château Turcan
DTSTART;TZID=Europe/Paris:20260415T173000
DTEND;TZID=Europe/Paris:20260415T183000
LOCATION:Ansouis
DESCRIPTION: 
STATUS:CONFIRMED
SEQUENCE:0
END:VEVENT
END:VCALENDAR