BEGIN:VCALENDAR
VERSION:2.0
CALSCALE:GREGORIAN
BEGIN:VEVENT
SUMMARY:Vinyasa CHURCH CAFÉ
DTSTART;TZID=Europe/Paris:20250821T093000
DTEND;TZID=Europe/Paris:20250821T103000
LOCATION:142 Rue du Maréchal Joffre, 22700 Perros-Guirec
DESCRIPTION: 1h de Vinyasa au CHURCH CAFÉ, Perros-Guirec.

Les tapis sont fournis. 

Le cours est à régler sur place ou en ligne, 15€.
STATUS:CONFIRMED
SEQUENCE:0
END:VEVENT
END:VCALENDAR