BEGIN:VCALENDAR
VERSION:2.0
CALSCALE:GREGORIAN
BEGIN:VEVENT
SUMMARY:CLÔTURER SON ANNÉE 2025 (VINYASA)
DTSTART;TZID=Europe/Paris:20251214T110000
DTEND;TZID=Europe/Paris:20251214T123000
LOCATION:Studio de Camille, Minihy-Tréguier
DESCRIPTION: Quand une année se termine, elle laisse derrière elle une sorte d’empreinte: des élans, des hésitations, des avancées, des doutes, des éclats de joie, des zones floues. Laisser remonter ces nuances, sans les trier, permet déjà de digérer l’année.  

Se préparer à tourner la page, ce n’est pas tirer un trait. C’est clarifier ce que tu veux emporter avec toi. Ce qui te ressemble encore. Ce qui t’appelle. Cette transition n’a rien d’un sprint : c’est un passage, un seuil, un doux réarrangement intérieur.

Rejoins-moi pour ce flow Vinyasa qui viendra clôturer ton année en beauté.

Dimanche 14 décembre - 11h à 12h30
Studio de Camille, Minihy-Tréguier
25€

OFFRE DUO : les deux ateliers à 45€
CLÔTURER SON ANNÉE 2025
NOUVEL ÉLAN 2026
STATUS:CONFIRMED
SEQUENCE:0
END:VEVENT
END:VCALENDAR