BEGIN:VCALENDAR
VERSION:2.0
CALSCALE:GREGORIAN
BEGIN:VEVENT
SUMMARY:Gentle Hatha
DTSTART;TZID=America/Vancouver:20180731T090000
DTEND;TZID=America/Vancouver:20180731T100000
LOCATION:Lotus Village Yoga Studio
DESCRIPTION: Warm up on the floor, learn proper alignment and modifications in a traditional style of yoga - Hatha will be taught by Mackenzie as she leads you through a gentle practice get for any student to begin.
STATUS:CONFIRMED
SEQUENCE:0
END:VEVENT
END:VCALENDAR