BEGIN:VCALENDAR
VERSION:2.0
CALSCALE:GREGORIAN
BEGIN:VEVENT
SUMMARY:Happy Flow Yoga and Advanced Postures Practice
DTSTART;TZID=America/Vancouver:20180813T190000
DTEND;TZID=America/Vancouver:20180813T200000
LOCATION:Lotus Village Yoga Studio
DESCRIPTION: kashjsjdasajhslhjlaslhj
STATUS:CONFIRMED
SEQUENCE:0
END:VEVENT
END:VCALENDAR