BEGIN:VCALENDAR
VERSION:2.0
CALSCALE:GREGORIAN
BEGIN:VEVENT
SUMMARY:Early Morning Meditation  &amp; Yoga
DTSTART;TZID=America/Vancouver:20180911T070000
DTEND;TZID=America/Vancouver:20180911T080000
LOCATION:Lotus Village Yoga Studio
DESCRIPTION: Early Morning meditation &amp; Yoga
A gentle practice cultivating relaxation and presence for healing. All levels are welcome as this class encourages the use of  props for support. Especially helpful for managing anxiety, depression, trauma or physical injuries. a deeply relaxing practice.
STATUS:CONFIRMED
SEQUENCE:0
END:VEVENT
END:VCALENDAR