BEGIN:VCALENDAR
VERSION:2.0
CALSCALE:GREGORIAN
BEGIN:VEVENT
SUMMARY:Beginners Morning Meditation- Meditation From the Mat Book Series
DTSTART;TZID=America/Vancouver:20181129T090000
DTEND;TZID=America/Vancouver:20181129T100000
LOCATION:Lotus Village Yoga Studio
DESCRIPTION: A traditionally taught practice with the book &#039;Meditations From The Mat&#039; By Rolf Gates. Learn the basics and find comfort and the health benefits of quiet and stillness.
STATUS:CONFIRMED
SEQUENCE:0
END:VEVENT
END:VCALENDAR