BEGIN:VCALENDAR
VERSION:2.0
CALSCALE:GREGORIAN
BEGIN:VEVENT
SUMMARY:Health Series: Strengthening Pelvic Floor
DTSTART;TZID=America/Vancouver:20190222T183000
DTEND;TZID=America/Vancouver:20190222T200000
LOCATION:Lotus Village Yoga Studio
DESCRIPTION: Introduction to the bones and muscles that surround the pelvis and how to regularly strengthen and support a healthy pelvic floor. Poses, breathing practices and relaxation to bring balance to an informative evening.
STATUS:CONFIRMED
SEQUENCE:0
END:VEVENT
END:VCALENDAR