BEGIN:VCALENDAR
VERSION:2.0
CALSCALE:GREGORIAN
BEGIN:VEVENT
SUMMARY:🌟Christmas Holidays🌟
DTSTART;TZID=Australia/Sydney:20251222T124500
DTEND;TZID=Australia/Sydney:20251222T134500
LOCATION:Online Zoom
DESCRIPTION: Joyous Christmas see you in the New Year!
STATUS:CONFIRMED
SEQUENCE:0
END:VEVENT
END:VCALENDAR