BEGIN:VCALENDAR
VERSION:2.0
CALSCALE:GREGORIAN
BEGIN:VEVENT
SUMMARY:Buddha Board Explorations POP UP
DTSTART;TZID=America/Chicago:20240104T180000
DTEND;TZID=America/Chicago:20240104T193000
LOCATION:Maitri Center
DESCRIPTION: Practice the art of letting go, living in the moment, and tapping into your creative essence.  The evening will explore the meditative qualities of the Buddha Board through the lens of emptiness and impermanence. 

No prior experience necessary. Appropriate for adults and teens 14+.
STATUS:CONFIRMED
SEQUENCE:0
END:VEVENT
END:VCALENDAR