BEGIN:VCALENDAR
VERSION:2.0
CALSCALE:GREGORIAN
BEGIN:VEVENT
SUMMARY:Mindfulness Club for Kids
DTSTART;TZID=America/Chicago:20240807T163000
DTEND;TZID=America/Chicago:20240807T173000
LOCATION:Maitri Center
DESCRIPTION: Come join the club! This 3-week summertime mini session is a wholesome way for your child ages 6-12 to practice skills that support emotional balance and wellbeing! We&#039;ll take a multi-age approach to exploring mindfulness through games, movement, and creative arts. $70 per child. Maximum 10 children.
STATUS:CONFIRMED
SEQUENCE:0
END:VEVENT
END:VCALENDAR