BEGIN:VCALENDAR
VERSION:2.0
CALSCALE:GREGORIAN
BEGIN:VEVENT
SUMMARY:Power Yoga
DTSTART;TZID=Europe/London:20260415T070000
DTEND;TZID=Europe/London:20260415T080000
LOCATION:Q Dance Academy, 263 High Street, RG45 7AH
DESCRIPTION: Join Kathryn for an energising early-morning class designed to wake up your body and mind. This dynamic session focuses on flowing sequences, strength-building poses, and controlled breathing to improve flexibility, balance, and endurance—perfect for starting your day feeling strong and refreshed.
STATUS:CONFIRMED
SEQUENCE:0
END:VEVENT
END:VCALENDAR