BEGIN:VCALENDAR
VERSION:2.0
CALSCALE:GREGORIAN
BEGIN:VEVENT
SUMMARY:Online 4 daagse
DTSTART;TZID=Europe/Amsterdam:20210516T132000
DTEND;TZID=Europe/Amsterdam:20210516T142000
LOCATION:Mala Yoga
DESCRIPTION: 
STATUS:CONFIRMED
SEQUENCE:0
END:VEVENT
END:VCALENDAR