BEGIN:VCALENDAR
VERSION:2.0
CALSCALE:GREGORIAN
BEGIN:VEVENT
SUMMARY:Yoga Summer Vibes on the beach🏄🏼‍♀️☀️🌴
DTSTART;TZID=Europe/Amsterdam:20210704T070000
DTEND;TZID=Europe/Amsterdam:20210704T100000
LOCATION:Mala Yoga
DESCRIPTION: Start je dag op het strand bij Nederzandt met Yoga, Mindfull walk, en meditatie. Samen sluiten wij deze ochtend af met een healthy ontbijt bij Nederzandt (Langevelderslag)☀️
STATUS:CONFIRMED
SEQUENCE:0
END:VEVENT
END:VCALENDAR