BEGIN:VCALENDAR
VERSION:2.0
CALSCALE:GREGORIAN
BEGIN:VEVENT
SUMMARY:Yoga Herfst Special🍂🍄
DTSTART;TZID=Europe/Amsterdam:20211003T090000
DTEND;TZID=Europe/Amsterdam:20211003T120000
LOCATION:Mala Yoga
DESCRIPTION: Gun jezelf een ochtend met Yin Yoga, Hatha Yoga, Pranayama, Meditatie. Doe nieuwe inspiratie op!

Kosten: 35,-

Let op: deze les is t/m 29 september 2021 kosteloos te annuleren.
STATUS:CONFIRMED
SEQUENCE:0
END:VEVENT
END:VCALENDAR