BEGIN:VCALENDAR
VERSION:2.0
CALSCALE:GREGORIAN
BEGIN:VEVENT
SUMMARY:🍋Healthy weken bij Mala Yoga🍎
DTSTART;TZID=Europe/Amsterdam:20210221T200000
DTEND;TZID=Europe/Amsterdam:20210221T210000
LOCATION:Mala Yoga
DESCRIPTION: Start jouw dag positief, vol energie en met nieuwe inspiratie! Doe vanaf aankomende maandag mee met de Healthy weken en schrijf je vandaag nog in!

🥦 Iedere dag heb jij keus uit al onze online lessen: Yin Yoga, Yin Yang Yoga, Easy Flow Yoga, Yoga en Mindfulness, Meditatie, Hatha Yoga en Yoga Nidra
🍇 Iedere maandag t/m vrijdag ontvang je een heerlijk recept of nieuwe inspiratie over yoga
🥦 Jij bepaalt zelf wanneer jij je les doet, de lestijden variëren van 15 minuten tot 50 minuten
🍇 Routine in je dag voor 2 weken lang
🥦 Inspireer, ontdek en geef het door!

Heb je een lopend abonnement bij Mala schrijf je dan in voor zondag 14 februari, deze special kost je maar 2 lessen.

Heb je geen lopend abonnement maar wil je hiervan gebruik maken? Schrijf je dan in bij Mala Yoga en meld je aan voor deze special van 2 weken voor maar €25.
STATUS:CONFIRMED
SEQUENCE:0
END:VEVENT
END:VCALENDAR