BEGIN:VCALENDAR
VERSION:2.0
CALSCALE:GREGORIAN
BEGIN:VEVENT
SUMMARY:Yoga Prénatal
DTSTART;TZID=Europe/Paris:20251021T121500
DTEND;TZID=Europe/Paris:20251021T133000
LOCATION:Domaine d&#039;Aurumy, 13710 Fuveau
DESCRIPTION: 
STATUS:CONFIRMED
SEQUENCE:0
END:VEVENT
END:VCALENDAR