BEGIN:VCALENDAR
VERSION:2.0
CALSCALE:GREGORIAN
BEGIN:VEVENT
SUMMARY:HATHA YOGA UCCLE STATUAIRES 12H30 - 13H30
DTSTART;TZID=Europe/Brussels:20250324T123000
DTEND;TZID=Europe/Brussels:20250324T133000
LOCATION:BRUXELLES - UCCLE - FOREST - LINKEBEEK
DESCRIPTION: Un heure à la pause méridienne pour bien commencer la semaine. Au programme : respiration, assouplissement, relaxation, méditation guidée sans oublier le postural pour mobiliser son corps, développer la tonicité des muscles en douceur et profondeur, apprendre à gérer son stress et réduire les maux et tensions physiques. Bref, une heure de reconnection à son soi.
STATUS:CONFIRMED
SEQUENCE:0
END:VEVENT
END:VCALENDAR