BEGIN:VCALENDAR
VERSION:2.0
CALSCALE:GREGORIAN
BEGIN:VEVENT
SUMMARY:Yoga force et Vinyasa flow
DTSTART;TZID=Europe/Paris:20251116T181500
DTEND;TZID=Europe/Paris:20251116T191500
LOCATION:103 rue Bannier à Orléans
DESCRIPTION: Un cours tonique où renforcement et flow se rencontrent.
On active les muscles profonds, on fait circuler l’énergie, et on laisse le souffle créer la fluidité.
Idéal pour celles et ceux qui aiment sentir à la fois la puissance et la liberté du mouvement.
Ouvert à tous niveaux.

Petit rappel : annulation gratuite 24h avant le début du cours, au delà le cours est dû. Pensez à venir avec une bouteille d&#039;eau pleine (il n&#039;y a pas d&#039;eau dans la salle). Des tapis, reposes genoux,  blocs et coussins sont disponibles pour vous au studio.

En cas de retard, merci de nous contacter au : 06.63.62.05.23
À très vite 🙏
STATUS:CONFIRMED
SEQUENCE:0
END:VEVENT
END:VCALENDAR