BEGIN:VCALENDAR
VERSION:2.0
CALSCALE:GREGORIAN
BEGIN:VEVENT
SUMMARY:Atelier Yoga Vinyasa : Mobilité de hanches
DTSTART;TZID=Europe/Paris:20260111T140000
DTEND;TZID=Europe/Paris:20260111T180000
LOCATION:103 rue Bannier à Orléans
DESCRIPTION: 📅Contact &amp; Réservation : 07.43.59.85.58 ou contact@inspirationyoga.fr


🐾Séquences ciblées pour assouplir et renforcer la zone des hanches. Nous combinerons mouvements dynamiques et postures tenues pour gagner en amplitude et en confort dans les transitions.

☀️L’intention des ateliers de yoga vinyasa
- découvrir le yoga et ses postures ;
- revenir au souffle et à la méditation ;
- affiner votre pratique ;
- ramener de la conscience dans vos mouvements.

☀️Déroulement de l&#039;atelier
- Un temps de recentrage.
- Un échauffement.
- Une exploration guidée : “qu’est-ce qui se passe. dans mon corps quand je fais cette posture ?”.
- Des exercices spécifiques liés à la posture.
- Un flow intégrant le thème du jour.
- Une méditation pour intégrer.

ℹ️ Merci de sonner 1 seule fois (Sonnette Mandalayoga) et d&#039;attendre que l&#039;on vienne vous ouvrir. Pensez à venir avec une bouteille pleine. Des tapis, reposes genoux, bolster et des blocs sont disponibles pour vous au studio.

ℹ️ ANNULATION &amp; REMBOURSEMENT : Toute annulation au-delà du délai légal de rétractation de 14 jours ne donne lieu à aucun remboursement. En revanche, si vous prévenez par écrit (mail ou SMS) au moins 7 jours avant l’atelier, un avoir valable sur un autre atelier pourra vous être proposé.

En réservant, vous confirmez avoir pris connaissance et accepté les conditions générales de vente.
Ps : Si vous avez des allergies alimentaires, merci de les noter en commentaire

Contact &amp; Réservation : 07.43.59.85.58 ou contact@inspirationyoga.fr
Tarif : 65€

À très vite 🙏🏽
STATUS:CONFIRMED
SEQUENCE:0
END:VEVENT
END:VCALENDAR