BEGIN:VCALENDAR
VERSION:2.0
CALSCALE:GREGORIAN
BEGIN:VEVENT
SUMMARY:Yoga Postnatal
DTSTART;TZID=Europe/Paris:20260319T150000
DTEND;TZID=Europe/Paris:20260319T160000
LOCATION:103 rue Bannier à Orléans
DESCRIPTION: Yoga Maman Bébé (de 2 à 6 mois)
Inscription via Sophie au 07 82 38 20 80 ou ayuryoga.sophie@gmail.com
STATUS:CONFIRMED
SEQUENCE:0
END:VEVENT
END:VCALENDAR