BEGIN:VCALENDAR
VERSION:2.0
CALSCALE:GREGORIAN
BEGIN:VEVENT
SUMMARY:Cours Catherine
DTSTART;TZID=Europe/Paris:20260319T083000
DTEND;TZID=Europe/Paris:20260319T093000
LOCATION:103 rue Bannier à Orléans
DESCRIPTION: 
STATUS:CONFIRMED
SEQUENCE:0
END:VEVENT
END:VCALENDAR