BEGIN:VCALENDAR
VERSION:2.0
CALSCALE:GREGORIAN
BEGIN:VEVENT
SUMMARY:🧘 Dynamic Vinyasa (ITA) @IntreccioViola
DTSTART;TZID=Europe/Rome:20250910T193000
DTEND;TZID=Europe/Rome:20250910T203000
LOCATION:Intreccio Viola
DESCRIPTION: 📍 Intreccio Viola Indirizzo / Address: Via Vanchiglia, 25c, 10124 Torino TO
STATUS:CONFIRMED
SEQUENCE:0
END:VEVENT
END:VCALENDAR