BEGIN:VCALENDAR
VERSION:2.0
CALSCALE:GREGORIAN
BEGIN:VEVENT
SUMMARY:🧘 Dynamic Vinyasa (ITA) @IntreccioViola
DTSTART;TZID=Europe/Rome:20251008T193000
DTEND;TZID=Europe/Rome:20251008T203000
LOCATION:Intreccio Viola - Via Vanchiglia, 25c, Torino
DESCRIPTION: 👇Leggi attentamente prima di prenotare 

1. Pagamento: i pagamenti devono essere effettuati prima della lezione, ad eccezione dei pagamenti in contanti, che possono essere effettuati il giorno stesso prima dell’inizio della lezione.
	
2. Fattura: per emettere fattura come freelancer, ho bisogno che mi invii prima della lezione le seguenti informazioni*:
• Codice fiscale
• Indirizzo di residenza
*Puoi inviarle su Whatsapp al 3279624707 oppure via email a mangoyogacollective@gmail.com.

3. Cancellazioni: è possibile cancellare la propria prenotazione gratuitamente dall’app MomoYoga fino a 24h prima della lezione. Dopo tale termine, non sarà possibile ricevere un rimborso.

Grazie mille per la collaborazione! ✨
STATUS:CONFIRMED
SEQUENCE:0
END:VEVENT
END:VCALENDAR