BEGIN:VCALENDAR
VERSION:2.0
CALSCALE:GREGORIAN
BEGIN:VEVENT
SUMMARY:🧘🏽‍♂️✍🏼 Evento: Yoga &amp; Journaling (ITA)
DTSTART;TZID=Europe/Rome:20250914T103000
DTEND;TZID=Europe/Rome:20250914T120000
LOCATION:Spine Tattoo Lab
DESCRIPTION: Per gli eventi, per favore prenotati in dm su IG o mandami un&#039;email a mangoyogacollective@gmail.com 🤎

Contributo: 20€ ✨

📍 Location: Corso Regina Margherita, 171D, 10144 Torino TO, Italia
STATUS:CONFIRMED
SEQUENCE:0
END:VEVENT
END:VCALENDAR