BEGIN:VCALENDAR
VERSION:2.0
CALSCALE:GREGORIAN
BEGIN:VEVENT
SUMMARY:Cours Collectif au Studio - Niveau intermédiaire
DTSTART;TZID=Europe/Paris:20250508T183000
DTEND;TZID=Europe/Paris:20250508T192500
LOCATION:studio Ma Pause Pilates 124, chemin du Camouyer-06330 Roquefort Les Pins
DESCRIPTION: Cours collectif de Pilates au sol.
Niveau intermédiaire.
Durée d&amp;#039;une séance: 55 min
Prévoir d&amp;#039;apporter votre tapis.
STATUS:CONFIRMED
SEQUENCE:0
END:VEVENT
END:VCALENDAR