BEGIN:VCALENDAR
VERSION:2.0
CALSCALE:GREGORIAN
BEGIN:VEVENT
SUMMARY:Cours Privé de Pilates sur Machines
DTSTART;TZID=Europe/Paris:20250809T134500
DTEND;TZID=Europe/Paris:20250809T144000
LOCATION:Studio Ma Pause Pilates - 124 chemin du Camouyer Roquefort les Pins
DESCRIPTION: Cours individuel au studio Ma Pause Pilates
Séance personnalisée de Pilates sur Réformer , Cadillac, ou Wunda chair.
Durée du cours 55 min.
STATUS:CONFIRMED
SEQUENCE:0
END:VEVENT
END:VCALENDAR