BEGIN:VCALENDAR
VERSION:2.0
CALSCALE:GREGORIAN
BEGIN:VEVENT
SUMMARY:Cours Privé de Pilates Sur Machines - 45 minutes
DTSTART;TZID=Europe/Paris:20250322T123000
DTEND;TZID=Europe/Paris:20250322T131500
LOCATION:Studio Ma Pause Pilates - 124 chemin du Camouyer Roquefort les Pins
DESCRIPTION: Séance individuelle et personnalisée de Pilates sur Reformer, Cadillac ou Wunda Chair.
Durée du Cours 45 min.
STATUS:CONFIRMED
SEQUENCE:0
END:VEVENT
END:VCALENDAR